BEGIN:VCALENDAR
VERSION:2.0
PRODID:-//northvalleyfoodbank.org//NONSGML kigkonsult.se iCalcreator 2.30.1
 0//
CALSCALE:GREGORIAN
METHOD:PUBLISH
UID:cd3da7a9-0bc5-4d23-a648-25af382229c6
X-WR-CALDESC:The first and third Monday of the month at the Izaak Walton In
 n from 10:30-11:00am
X-WR-RELCALID:b45894c8ea25e95bd4b17a2bacee73c6
X-WR-TIMEZONE:America/Denver
BEGIN:VTIMEZONE
TZID:America/Denver
BEGIN:STANDARD
TZNAME:MST
DTSTART:20241103T020000
TZOFFSETFROM:-0600
TZOFFSETTO:-0700
RDATE:20251102T020000
END:STANDARD
BEGIN:DAYLIGHT
TZNAME:MDT
DTSTART:20240310T020000
TZOFFSETFROM:-0700
TZOFFSETTO:-0600
RDATE:20250309T020000
RDATE:20260308T020000
END:DAYLIGHT
END:VTIMEZONE
BEGIN:VEVENT
UID:52e81970-9a20-4d33-aaef-5577136f7969
DTSTAMP:20260422T084658Z
DESCRIPTION:The first and third Monday of the month at the Izaak Walton Inn
  from 10:30-11:00am
DTSTART;TZID=America/Denver:20241118T103000
DTEND;TZID=America/Denver:20241118T110000
LOCATION:Izaac Walton Inn\, 90 Izaak Walton Inn Rd\, Essex\, MT 59916 US
SUMMARY:Essex Mobile Pantry - Thanksgiving Food
END:VEVENT
END:VCALENDAR
