BEGIN:VCALENDAR
VERSION:2.0
PRODID:-//northvalleyfoodbank.org//NONSGML kigkonsult.se iCalcreator 2.30.1
 0//
CALSCALE:GREGORIAN
METHOD:PUBLISH
UID:660e103d-6264-450d-86de-68848b555dc2
X-WR-CALDESC:Culinary Education\n\nNovember: Soup-er Stars! \nFriday\, Nove
 mber 22\, 4-5:30pm\nGet warm with a bowl of veggie soup and learn our favo
 rite tips and tricks for making nourishing soup as we head into winter. Th
 is is a cooking class for both parent and child. Ages 6+ please.\n\nIntere
 sted in signing up? Email savannah@northvalleyfoodbank.org or call 406-862
 -5863 ext. 1010
X-WR-RELCALID:ab0bd72e58d385efefa321d39075098d
X-WR-TIMEZONE:America/Denver
BEGIN:VTIMEZONE
TZID:America/Denver
BEGIN:STANDARD
TZNAME:MST
DTSTART:20241103T020000
TZOFFSETFROM:-0600
TZOFFSETTO:-0700
RDATE:20251102T020000
END:STANDARD
BEGIN:DAYLIGHT
TZNAME:MDT
DTSTART:20240310T020000
TZOFFSETFROM:-0700
TZOFFSETTO:-0600
RDATE:20250309T020000
RDATE:20260308T020000
END:DAYLIGHT
END:VTIMEZONE
BEGIN:VEVENT
UID:81ba074f-66e3-4071-864d-0456f9c3b45c
DTSTAMP:20260422T084546Z
DESCRIPTION:Culinary Education\n\nNovember: Soup-er Stars! \nFriday\, Novem
 ber 22\, 4-5:30pm\nGet warm with a bowl of veggie soup and learn our favor
 ite tips and tricks for making nourishing soup as we head into winter. Thi
 s is a cooking class for both parent and child. Ages 6+ please.\n\nInteres
 ted in signing up? Email savannah@northvalleyfoodbank.org or call 406-862-
 5863 ext. 1010
DTSTART;TZID=America/Denver:20241122T040000
DTEND;TZID=America/Denver:20241122T040001
LOCATION:251 Flathead Avenue\, Whitefish\, MT 59937 US
SUMMARY:Soup-er Stars!  Children 6+ class
END:VEVENT
END:VCALENDAR
