BEGIN:VCALENDAR
VERSION:2.0
PRODID:-//northvalleyfoodbank.org//NONSGML kigkonsult.se iCalcreator 2.30.1
 0//
CALSCALE:GREGORIAN
METHOD:PUBLISH
UID:3bd88887-d9fa-4d9d-9729-02e81332a989
X-WR-CALDESC:Culinary Education\n\nNovember: Soup-er Stars! \nFriday\, Nove
 mber 22\, 4-5:30pm\nGet warm with a bowl of veggie soup and learn our favo
 rite tips and tricks for making nourishing soup as we head into winter. Th
 is is a cooking class for both parent and child. Ages 6+ please.\n\nIntere
 sted in signing up? Email savannah@northvalleyfoodbank.org or call 406-862
 -5863 ext. 1010
X-WR-RELCALID:4664befc8e41602a65fe74c8f1ac82c2
X-WR-TIMEZONE:America/Denver
BEGIN:VTIMEZONE
TZID:America/Denver
BEGIN:STANDARD
TZNAME:MST
DTSTART:20241103T020000
TZOFFSETFROM:-0600
TZOFFSETTO:-0700
RDATE:20251102T020000
END:STANDARD
BEGIN:DAYLIGHT
TZNAME:MDT
DTSTART:20240310T020000
TZOFFSETFROM:-0700
TZOFFSETTO:-0600
RDATE:20250309T020000
RDATE:20260308T020000
END:DAYLIGHT
END:VTIMEZONE
BEGIN:VEVENT
UID:979028a5-e0c6-4c23-8c97-0bd7381a27f6
DTSTAMP:20260422T084658Z
DESCRIPTION:Culinary Education\n\nNovember: Soup-er Stars! \nFriday\, Novem
 ber 22\, 4-5:30pm\nGet warm with a bowl of veggie soup and learn our favor
 ite tips and tricks for making nourishing soup as we head into winter. Thi
 s is a cooking class for both parent and child. Ages 6+ please.\n\nInteres
 ted in signing up? Email savannah@northvalleyfoodbank.org or call 406-862-
 5863 ext. 1010
DTSTART;TZID=America/Denver:20241122T140000
DTEND;TZID=America/Denver:20241122T153000
LOCATION:251 Flathead Avenue\, Whitefish\, MT 59937 US
SUMMARY:Soup-er Stars!  Teen\, Young Adult\, and Adult Class
END:VEVENT
END:VCALENDAR
