BEGIN:VCALENDAR
VERSION:2.0
PRODID:-//northvalleyfoodbank.org//NONSGML kigkonsult.se iCalcreator 2.30.1
 0//
CALSCALE:GREGORIAN
METHOD:PUBLISH
UID:95a4741c-d11a-452c-85ba-a763f4f0f440
X-WR-CALDESC:
X-WR-RELCALID:74147582d0012e973b78d4f3a4fbeb7e
X-WR-TIMEZONE:America/Denver
BEGIN:VTIMEZONE
TZID:America/Denver
BEGIN:STANDARD
TZNAME:MST
DTSTART:20241103T020000
TZOFFSETFROM:-0600
TZOFFSETTO:-0700
RDATE:20251102T020000
END:STANDARD
BEGIN:DAYLIGHT
TZNAME:MDT
DTSTART:20240310T020000
TZOFFSETFROM:-0700
TZOFFSETTO:-0600
RDATE:20250309T020000
RDATE:20260308T020000
END:DAYLIGHT
END:VTIMEZONE
BEGIN:VEVENT
UID:58eb932d-d5e1-494c-8b40-7a3e659b7095
DTSTAMP:20260420T122632Z
DESCRIPTION:
DTSTART;TZID=America/Denver:20241126T120000
DTEND;TZID=America/Denver:20241126T180000
LOCATION:251 Flathead Avenue\, Whitefish\, MT 59937 US
SUMMARY:Store Hours - Thanksgiving Food
END:VEVENT
END:VCALENDAR
