BEGIN:VCALENDAR
VERSION:2.0
PRODID:-//northvalleyfoodbank.org//NONSGML kigkonsult.se iCalcreator 2.30.1
 0//
CALSCALE:GREGORIAN
METHOD:PUBLISH
UID:728e4b6f-2be7-477b-ab34-6eb17de12618
X-WR-CALDESC:
X-WR-RELCALID:b7c72b6f68d6502b3d58731a5242b801
X-WR-TIMEZONE:America/Denver
BEGIN:VTIMEZONE
TZID:America/Denver
BEGIN:STANDARD
TZNAME:MST
DTSTART:20241103T020000
TZOFFSETFROM:-0600
TZOFFSETTO:-0700
RDATE:20251102T020000
RDATE:20261101T020000
END:STANDARD
BEGIN:DAYLIGHT
TZNAME:MDT
DTSTART:20250309T020000
TZOFFSETFROM:-0700
TZOFFSETTO:-0600
RDATE:20260308T020000
END:DAYLIGHT
END:VTIMEZONE
BEGIN:VEVENT
UID:014d9156-2b48-4c01-a0a3-feda1bf71e11
DTSTAMP:20260422T084558Z
DESCRIPTION:
DTSTART;TZID=America/Denver:20250517T000000
DTEND;TZID=America/Denver:20250601T000000
LOCATION:251 Flathead Ave\, Whitefish\, MT 59937 US
SUMMARY:FEED KIDS FOOD DRIVE
END:VEVENT
END:VCALENDAR
