BEGIN:VCALENDAR
VERSION:2.0
PRODID:-//northvalleyfoodbank.org//NONSGML kigkonsult.se iCalcreator 2.30.1
 0//
CALSCALE:GREGORIAN
METHOD:PUBLISH
UID:0168425a-bfc5-44e4-9112-860c2cedec6e
X-WR-CALDESC:
X-WR-RELCALID:e74211e4997a2ca49ecd38eb81981b87
X-WR-TIMEZONE:America/Denver
BEGIN:VTIMEZONE
TZID:America/Denver
BEGIN:STANDARD
TZNAME:MST
DTSTART:20251102T020000
TZOFFSETFROM:-0600
TZOFFSETTO:-0700
RDATE:20261101T020000
END:STANDARD
BEGIN:DAYLIGHT
TZNAME:MDT
DTSTART:20250309T020000
TZOFFSETFROM:-0700
TZOFFSETTO:-0600
RDATE:20260308T020000
RDATE:20270314T020000
END:DAYLIGHT
END:VTIMEZONE
BEGIN:VEVENT
UID:5f0081eb-c5d1-401e-bc13-aa710c5b15dc
DTSTAMP:20260422T112727Z
DESCRIPTION:
DTSTART;TZID=America/Denver:20251112T120000
DTEND;TZID=America/Denver:20251112T130000
LOCATION:540 4th Ave West\, Columbia Falls\, MT 59912 US
SUMMARY:Columbia Falls Mobile Pantry
END:VEVENT
END:VCALENDAR
