BEGIN:VCALENDAR
VERSION:2.0
PRODID:-//northvalleyfoodbank.org//NONSGML kigkonsult.se iCalcreator 2.30.1
 0//
CALSCALE:GREGORIAN
METHOD:PUBLISH
UID:82dbd176-0065-40ab-a516-02b710ab9243
X-WR-CALDESC:The first and third Monday of the month at the Izaak Walton In
 n from 10:30-11:00am\nThanksgiving Distribution 11/17
X-WR-RELCALID:b32865affde62b1a2dd77837b45f3bbf
X-WR-TIMEZONE:America/Denver
BEGIN:VTIMEZONE
TZID:America/Denver
BEGIN:STANDARD
TZNAME:MST
DTSTART:20251102T020000
TZOFFSETFROM:-0600
TZOFFSETTO:-0700
RDATE:20261101T020000
END:STANDARD
BEGIN:DAYLIGHT
TZNAME:MDT
DTSTART:20250309T020000
TZOFFSETFROM:-0700
TZOFFSETTO:-0600
RDATE:20260308T020000
RDATE:20270314T020000
END:DAYLIGHT
END:VTIMEZONE
BEGIN:VEVENT
UID:35f1e77b-50cb-4048-bbf5-5b12892b128e
DTSTAMP:20260422T113337Z
DESCRIPTION:The first and third Monday of the month at the Izaak Walton Inn
  from 10:30-11:00am\nThanksgiving Distribution 11/17
DTSTART;TZID=America/Denver:20251117T103000
DTEND;TZID=America/Denver:20251117T110000
LOCATION:Izaac Walton Inn\, 90 Izaak Walton Inn Rd\, Essex\, AL 59916 US
SUMMARY:Essex Mobile Pantry
END:VEVENT
END:VCALENDAR
