BEGIN:VCALENDAR
VERSION:2.0
PRODID:-//northvalleyfoodbank.org//NONSGML kigkonsult.se iCalcreator 2.30.1
 0//
CALSCALE:GREGORIAN
METHOD:PUBLISH
UID:3e01f3a3-7297-482d-9f5b-330f60dd6d48
X-WR-CALDESC:
X-WR-RELCALID:b26da857cf8a022153d65f340e9d1905
X-WR-TIMEZONE:America/Denver
BEGIN:VTIMEZONE
TZID:America/Denver
BEGIN:STANDARD
TZNAME:MST
DTSTART:20251102T020000
TZOFFSETFROM:-0600
TZOFFSETTO:-0700
RDATE:20261101T020000
END:STANDARD
BEGIN:DAYLIGHT
TZNAME:MDT
DTSTART:20250309T020000
TZOFFSETFROM:-0700
TZOFFSETTO:-0600
RDATE:20260308T020000
RDATE:20270314T020000
END:DAYLIGHT
END:VTIMEZONE
BEGIN:VEVENT
UID:0ee1cb9a-966c-4c73-a97d-eac9a5714b0d
DTSTAMP:20260422T112421Z
DESCRIPTION:
DTSTART;TZID=America/Denver:20251120T100000
DTEND;TZID=America/Denver:20251120T160000
LOCATION:251 Flathead Avenue\, Whitefish\, AL 59937 US
SUMMARY:Store Hours
END:VEVENT
END:VCALENDAR
