BEGIN:VCALENDAR
VERSION:2.0
PRODID:-//northvalleyfoodbank.org//NONSGML kigkonsult.se iCalcreator 2.30.1
 0//
CALSCALE:GREGORIAN
METHOD:PUBLISH
UID:fc6b58ea-8b59-475d-a17d-e969a1a08544
X-WR-CALDESC:Every Friday at TFS Hall from 12:00-1:00pm
X-WR-RELCALID:5e6ce07fee171337941a63ba451d1b69
X-WR-TIMEZONE:America/Denver
BEGIN:VTIMEZONE
TZID:America/Denver
BEGIN:STANDARD
TZNAME:MST
DTSTART:20251102T020000
TZOFFSETFROM:-0600
TZOFFSETTO:-0700
RDATE:20261101T020000
END:STANDARD
BEGIN:DAYLIGHT
TZNAME:MDT
DTSTART:20250309T020000
TZOFFSETFROM:-0700
TZOFFSETTO:-0600
RDATE:20260308T020000
RDATE:20270314T020000
END:DAYLIGHT
END:VTIMEZONE
BEGIN:VEVENT
UID:f9cc9f8b-0f79-4fa1-95e2-09a88fedbf24
DTSTAMP:20260422T142400Z
DESCRIPTION:Every Friday at TFS Hall from 12:00-1:00pm
DTSTART;TZID=America/Denver:20251205T120000
DTEND;TZID=America/Denver:20251205T130000
LOCATION:312 Fortine Creek Rd\, Trego\, MT 59934 US
SUMMARY:Trego Mobile Pantry
END:VEVENT
END:VCALENDAR
