BEGIN:VCALENDAR
VERSION:2.0
PRODID:-//northvalleyfoodbank.org//NONSGML kigkonsult.se iCalcreator 2.30.1
 0//
CALSCALE:GREGORIAN
METHOD:PUBLISH
UID:f0e9f3f8-ef1f-4c64-9560-3c8b59ad8277
X-WR-CALDESC:The first and third Monday of the month at the Izaak Walton In
 n from 10:30-11:00am
X-WR-RELCALID:9f0c73e8abd418069c22e629d1c9bfc6
X-WR-TIMEZONE:America/Denver
BEGIN:VTIMEZONE
TZID:America/Denver
BEGIN:STANDARD
TZNAME:MST
DTSTART:20251102T020000
TZOFFSETFROM:-0600
TZOFFSETTO:-0700
RDATE:20261101T020000
END:STANDARD
BEGIN:DAYLIGHT
TZNAME:MDT
DTSTART:20250309T020000
TZOFFSETFROM:-0700
TZOFFSETTO:-0600
RDATE:20260308T020000
RDATE:20270314T020000
END:DAYLIGHT
END:VTIMEZONE
BEGIN:VEVENT
UID:45d786d1-64ab-4cf5-8f81-f2001211f1f0
DTSTAMP:20260422T084623Z
DESCRIPTION:The first and third Monday of the month at the Izaak Walton Inn
  from 10:30-11:00am
DTSTART;TZID=America/Denver:20260105T103000
DTEND;TZID=America/Denver:20260105T110000
LOCATION:290 Izaak Walton Inn Rd\, Essex\, MT 59916 US
SUMMARY:Essex Mobile Pantry
END:VEVENT
END:VCALENDAR
