BEGIN:VCALENDAR
VERSION:2.0
PRODID:-//northvalleyfoodbank.org//NONSGML kigkonsult.se iCalcreator 2.30.1
 0//
CALSCALE:GREGORIAN
METHOD:PUBLISH
UID:628e4900-d843-4b83-aefa-59d65612d021
X-WR-CALDESC:North Valley Food Bank Culinary Speaker & Workshop Series: NVF
 B invites the local food community to participate in a culinary adventure 
 designed to offer information and boost skills for new food businesses or 
 individuals hoping to advance their culinary careers. Free series open to 
 the community with limited spots available in our Incubator Kitchen Progra
 m.
X-WR-RELCALID:8bd9b8bc459b11da372da12bca355984
X-WR-TIMEZONE:America/Denver
BEGIN:VTIMEZONE
TZID:America/Denver
BEGIN:STANDARD
TZNAME:MST
DTSTART:20251102T020000
TZOFFSETFROM:-0600
TZOFFSETTO:-0700
RDATE:20261101T020000
END:STANDARD
BEGIN:DAYLIGHT
TZNAME:MDT
DTSTART:20250309T020000
TZOFFSETFROM:-0700
TZOFFSETTO:-0600
RDATE:20260308T020000
RDATE:20270314T020000
END:DAYLIGHT
END:VTIMEZONE
BEGIN:VEVENT
UID:10a50edf-72f7-46d9-9aa0-d1a3f6013d2f
DTSTAMP:20260420T071944Z
DESCRIPTION:North Valley Food Bank Culinary Speaker & Workshop Series: NVFB
  invites the local food community to participate in a culinary adventure d
 esigned to offer information and boost skills for new food businesses or i
 ndividuals hoping to advance their culinary careers. Free series open to t
 he community with limited spots available in our Incubator Kitchen Program
 .
DTSTART;TZID=America/Denver:20260205T173000
DTEND;TZID=America/Denver:20260205T183000
LOCATION:251 Flathead Ave\, Whitefish\, MT 59937 US
SUMMARY:Incubator Kitchen - Catering\, personal chef business
END:VEVENT
END:VCALENDAR
