BEGIN:VCALENDAR
VERSION:2.0
PRODID:-//northvalleyfoodbank.org//NONSGML kigkonsult.se iCalcreator 2.30.1
 0//
CALSCALE:GREGORIAN
METHOD:PUBLISH
UID:6af160ce-a9e4-4c56-8cbb-1d0851a9c659
X-WR-CALDESC:Columbia Falls Kids Foundation Building. Enter through the blu
 e doors.
X-WR-RELCALID:e12f7033ab6d276002244b08eeac4669
X-WR-TIMEZONE:America/Denver
BEGIN:VTIMEZONE
TZID:America/Denver
BEGIN:STANDARD
TZNAME:MST
DTSTART:20251102T020000
TZOFFSETFROM:-0600
TZOFFSETTO:-0700
RDATE:20261101T020000
END:STANDARD
BEGIN:DAYLIGHT
TZNAME:MDT
DTSTART:20250309T020000
TZOFFSETFROM:-0700
TZOFFSETTO:-0600
RDATE:20260308T020000
RDATE:20270314T020000
END:DAYLIGHT
END:VTIMEZONE
BEGIN:VEVENT
UID:33e9d82b-ead1-4c39-aacd-7b3b9c30603f
DTSTAMP:20260420T072036Z
DESCRIPTION:Columbia Falls Kids Foundation Building. Enter through the blue
  doors.
DTSTART;TZID=America/Denver:20260211T120000
DTEND;TZID=America/Denver:20260211T130000
LOCATION:540 4th Ave West\, Columbia Falls\, MT 59912 US
SUMMARY:Columbia Falls Mobile Pantry   (Copy)
END:VEVENT
END:VCALENDAR
