BEGIN:VCALENDAR
VERSION:2.0
PRODID:-//northvalleyfoodbank.org//NONSGML kigkonsult.se iCalcreator 2.30.1
 0//
CALSCALE:GREGORIAN
METHOD:PUBLISH
UID:c49f5f0c-9f9e-4a7b-84e8-5ac4e243fd68
X-WR-CALDESC:
X-WR-RELCALID:f54a102728098e1a9d73734cffea569d
X-WR-TIMEZONE:America/Denver
BEGIN:VTIMEZONE
TZID:America/Denver
BEGIN:STANDARD
TZNAME:MST
DTSTART:20251102T020000
TZOFFSETFROM:-0600
TZOFFSETTO:-0700
RDATE:20261101T020000
END:STANDARD
BEGIN:DAYLIGHT
TZNAME:MDT
DTSTART:20250309T020000
TZOFFSETFROM:-0700
TZOFFSETTO:-0600
RDATE:20260308T020000
RDATE:20270314T020000
END:DAYLIGHT
END:VTIMEZONE
BEGIN:VEVENT
UID:6ae79361-a0ab-42e3-bd41-467d9387b964
DTSTAMP:20260420T072941Z
DESCRIPTION:
DTSTART;TZID=America/Denver:20260212T163000
DTEND;TZID=America/Denver:20260212T180000
LOCATION:251 Flathead Ave\, Whitefish\, MT 59937 US
SUMMARY:Made With Love Pay-What-You-Can Pop-Up & Open House
END:VEVENT
END:VCALENDAR
