BEGIN:VCALENDAR
VERSION:2.0
PRODID:-//northvalleyfoodbank.org//NONSGML kigkonsult.se iCalcreator 2.30.1
 0//
CALSCALE:GREGORIAN
METHOD:PUBLISH
UID:8204fcbb-db29-41b5-8404-e9cbd804ee10
X-WR-CALDESC:Columbia Falls Kids Foundation Building. Enter through the blu
 e doors.
X-WR-RELCALID:1ed6596d5b3f99934af8fbb1c7c09816
X-WR-TIMEZONE:America/Denver
BEGIN:VTIMEZONE
TZID:America/Denver
BEGIN:STANDARD
TZNAME:MST
DTSTART:20251102T020000
TZOFFSETFROM:-0600
TZOFFSETTO:-0700
RDATE:20261101T020000
END:STANDARD
BEGIN:DAYLIGHT
TZNAME:MDT
DTSTART:20260308T020000
TZOFFSETFROM:-0700
TZOFFSETTO:-0600
RDATE:20270314T020000
END:DAYLIGHT
END:VTIMEZONE
BEGIN:VEVENT
UID:c77ae835-0aab-4f75-a0b1-4e8f5de9b4c1
DTSTAMP:20260420T054442Z
DESCRIPTION:Columbia Falls Kids Foundation Building. Enter through the blue
  doors.
DTSTART;TZID=America/Denver:20260325T120000
DTEND;TZID=America/Denver:20260325T130000
LOCATION:540 4th Ave West\, Columbia Falls\, MT 59912 US
SUMMARY:Columbia Falls Mobile Pantry
END:VEVENT
END:VCALENDAR
