BEGIN:VCALENDAR
VERSION:2.0
PRODID:-//northvalleyfoodbank.org//NONSGML kigkonsult.se iCalcreator 2.30.1
 0//
CALSCALE:GREGORIAN
METHOD:PUBLISH
UID:40984b65-b2f9-47f6-addf-2d7ceafbee7e
X-WR-CALDESC:
X-WR-RELCALID:06cb115c44f4f5bb52eb47bdadeafc57
X-WR-TIMEZONE:America/Denver
BEGIN:VTIMEZONE
TZID:America/Denver
BEGIN:STANDARD
TZNAME:MST
DTSTART:20251102T020000
TZOFFSETFROM:-0600
TZOFFSETTO:-0700
RDATE:20261101T020000
END:STANDARD
BEGIN:DAYLIGHT
TZNAME:MDT
DTSTART:20260308T020000
TZOFFSETFROM:-0700
TZOFFSETTO:-0600
RDATE:20270314T020000
END:DAYLIGHT
END:VTIMEZONE
BEGIN:VEVENT
UID:d62081c9-e7d0-4429-a90c-1a4e0629fe2a
DTSTAMP:20260420T040550Z
DESCRIPTION:
DTSTART;TZID=America/Denver:20260416T100000
DTEND;TZID=America/Denver:20260416T160000
LOCATION:251 Flathead Avenue\, Whitefish\, AL 59937 US
SUMMARY:Store Hours
END:VEVENT
END:VCALENDAR
