BEGIN:VCALENDAR
VERSION:2.0
PRODID:-//northvalleyfoodbank.org//NONSGML kigkonsult.se iCalcreator 2.30.1
 0//
CALSCALE:GREGORIAN
METHOD:PUBLISH
UID:560bd2c8-8ac7-4f7f-9f5b-b85870d5baff
X-WR-CALDESC:Columbia Falls Kids Foundation Building. Enter through the blu
 e doors.
X-WR-RELCALID:494052fa7bd83f1a8227e5d56e4c2772
X-WR-TIMEZONE:America/Denver
BEGIN:VTIMEZONE
TZID:America/Denver
BEGIN:STANDARD
TZNAME:MST
DTSTART:20251102T020000
TZOFFSETFROM:-0600
TZOFFSETTO:-0700
RDATE:20261101T020000
RDATE:20271107T020000
END:STANDARD
BEGIN:DAYLIGHT
TZNAME:MDT
DTSTART:20260308T020000
TZOFFSETFROM:-0700
TZOFFSETTO:-0600
RDATE:20270314T020000
END:DAYLIGHT
END:VTIMEZONE
BEGIN:VEVENT
UID:3cae6643-69b9-4bb0-92cf-5998b3e7747f
DTSTAMP:20260420T054411Z
DESCRIPTION:Columbia Falls Kids Foundation Building. Enter through the blue
  doors.
DTSTART;TZID=America/Denver:20260513T120000
DTEND;TZID=America/Denver:20260513T130000
LOCATION:540 4th Ave West\, Columbia Falls\, MT 59912 US
SUMMARY:Columbia Falls Mobile Pantry   (Copy)
END:VEVENT
END:VCALENDAR
