BEGIN:VCALENDAR
VERSION:2.0
PRODID:-//northvalleyfoodbank.org//NONSGML kigkonsult.se iCalcreator 2.30.1
 0//
CALSCALE:GREGORIAN
METHOD:PUBLISH
UID:36c2c0e6-f6ee-42ca-b9b3-e0c70a83db2a
X-WR-CALDESC:The first and third Monday of the month at the Izaak Walton In
 n from 10:30-11:00am
X-WR-RELCALID:d27dd7876541f5a982db3d7fa053e12a
X-WR-TIMEZONE:America/Denver
BEGIN:VTIMEZONE
TZID:America/Denver
BEGIN:STANDARD
TZNAME:MST
DTSTART:20251102T020000
TZOFFSETFROM:-0600
TZOFFSETTO:-0700
RDATE:20261101T020000
RDATE:20271107T020000
END:STANDARD
BEGIN:DAYLIGHT
TZNAME:MDT
DTSTART:20260308T020000
TZOFFSETFROM:-0700
TZOFFSETTO:-0600
RDATE:20270314T020000
END:DAYLIGHT
END:VTIMEZONE
BEGIN:VEVENT
UID:f36759c1-0123-442c-9604-d090048b01a3
DTSTAMP:20260420T055019Z
DESCRIPTION:The first and third Monday of the month at the Izaak Walton Inn
  from 10:30-11:00am
DTSTART;TZID=America/Denver:20260601T103000
DTEND;TZID=America/Denver:20260601T110000
LOCATION:290 Izaak Walton Inn Rd\, Essex\, MT 59916 US
SUMMARY:Essex Mobile Pantry (Copy)
END:VEVENT
END:VCALENDAR
