BEGIN:VCALENDAR
VERSION:2.0
PRODID:-//northvalleyfoodbank.org//NONSGML kigkonsult.se iCalcreator 2.30.1
 0//
CALSCALE:GREGORIAN
METHOD:PUBLISH
UID:4ed2a723-433d-4357-a5a8-e7c08dfd26c0
X-WR-CALDESC:The first and third Monday of the month at the Izaak Walton In
 n from 10:30-11:00am
X-WR-RELCALID:2cf5a01986da26ac5ec7ddb58a0fd453
X-WR-TIMEZONE:America/Denver
BEGIN:VTIMEZONE
TZID:America/Denver
BEGIN:STANDARD
TZNAME:MST
DTSTART:20251102T020000
TZOFFSETFROM:-0600
TZOFFSETTO:-0700
RDATE:20261101T020000
RDATE:20271107T020000
END:STANDARD
BEGIN:DAYLIGHT
TZNAME:MDT
DTSTART:20260308T020000
TZOFFSETFROM:-0700
TZOFFSETTO:-0600
RDATE:20270314T020000
END:DAYLIGHT
END:VTIMEZONE
BEGIN:VEVENT
UID:38e3f6c9-2681-445f-b7e6-f612f90529cb
DTSTAMP:20260420T055018Z
DESCRIPTION:The first and third Monday of the month at the Izaak Walton Inn
  from 10:30-11:00am
DTSTART;TZID=America/Denver:20260615T103000
DTEND;TZID=America/Denver:20260615T110000
LOCATION:290 Izaak Walton Inn Rd\, Essex\, MT 59916 US
SUMMARY:Essex Mobile Pantry
END:VEVENT
END:VCALENDAR
