BEGIN:VCALENDAR
VERSION:2.0
PRODID:-//northvalleyfoodbank.org//NONSGML kigkonsult.se iCalcreator 2.30.1
 0//
CALSCALE:GREGORIAN
METHOD:PUBLISH
UID:c3d806d6-aac4-44d1-bf77-2238c7d578ea
X-WR-CALDESC:Columbia Falls Kids Foundation Building. Enter through the blu
 e doors.
X-WR-RELCALID:d02aa595bebe4a92b647167697b8992c
X-WR-TIMEZONE:America/Denver
BEGIN:VTIMEZONE
TZID:America/Denver
BEGIN:STANDARD
TZNAME:MST
DTSTART:20251102T020000
TZOFFSETFROM:-0600
TZOFFSETTO:-0700
RDATE:20261101T020000
RDATE:20271107T020000
END:STANDARD
BEGIN:DAYLIGHT
TZNAME:MDT
DTSTART:20260308T020000
TZOFFSETFROM:-0700
TZOFFSETTO:-0600
RDATE:20270314T020000
END:DAYLIGHT
END:VTIMEZONE
BEGIN:VEVENT
UID:7cc80f7a-d3b1-47fd-bb4d-f66509ed4abc
DTSTAMP:20260420T071648Z
DESCRIPTION:Columbia Falls Kids Foundation Building. Enter through the blue
  doors.
DTSTART;TZID=America/Denver:20260624T120000
DTEND;TZID=America/Denver:20260624T130000
LOCATION:540 4th Ave West\, Columbia Falls\, MT 59912 US
SUMMARY:Columbia Falls Mobile Pantry   (Copy)
END:VEVENT
END:VCALENDAR
