BEGIN:VCALENDAR
VERSION:2.0
PRODID:-//northvalleyfoodbank.org//NONSGML kigkonsult.se iCalcreator 2.30.1
 0//
CALSCALE:GREGORIAN
METHOD:PUBLISH
UID:f4927d6c-36d5-4810-9426-49ba5e9a8b93
X-WR-CALDESC:
X-WR-RELCALID:f53d926cdb350cdc6c21d8e75bf07c09
X-WR-TIMEZONE:America/Denver
BEGIN:VTIMEZONE
TZID:America/Denver
BEGIN:STANDARD
TZNAME:MST
DTSTART:20251102T020000
TZOFFSETFROM:-0600
TZOFFSETTO:-0700
RDATE:20261101T020000
RDATE:20271107T020000
END:STANDARD
BEGIN:DAYLIGHT
TZNAME:MDT
DTSTART:20260308T020000
TZOFFSETFROM:-0700
TZOFFSETTO:-0600
RDATE:20270314T020000
RDATE:20280312T020000
END:DAYLIGHT
END:VTIMEZONE
BEGIN:VEVENT
UID:e77487b8-04d4-419c-b931-aa921b396cb1
DTSTAMP:20260422T112727Z
DESCRIPTION:
DTSTART;TZID=America/Denver:20260929T140000
DTEND;TZID=America/Denver:20260929T180000
LOCATION:251 Flathead Avenue\, Whitefish\, MT 59937 US
SUMMARY:Store Hours
END:VEVENT
END:VCALENDAR
