BEGIN:VCALENDAR
VERSION:2.0
PRODID:-//northvalleyfoodbank.org//NONSGML kigkonsult.se iCalcreator 2.30.1
 0//
CALSCALE:GREGORIAN
METHOD:PUBLISH
UID:ad6c8bbd-aec0-4a86-b3dc-173a23e8845f
X-WR-CALDESC:
X-WR-RELCALID:6e0199377075cd22dcaecf846b142872
X-WR-TIMEZONE:America/Denver
BEGIN:VTIMEZONE
TZID:America/Denver
BEGIN:STANDARD
TZNAME:MST
DTSTART:20251102T020000
TZOFFSETFROM:-0600
TZOFFSETTO:-0700
RDATE:20261101T020000
RDATE:20271107T020000
END:STANDARD
BEGIN:DAYLIGHT
TZNAME:MDT
DTSTART:20260308T020000
TZOFFSETFROM:-0700
TZOFFSETTO:-0600
RDATE:20270314T020000
RDATE:20280312T020000
END:DAYLIGHT
END:VTIMEZONE
BEGIN:VEVENT
UID:e6508fcd-e1ff-4ca7-97b3-584e3b6cec90
DTSTAMP:20260422T125825Z
DESCRIPTION:
DTSTART;TZID=America/Denver:20261008T100000
DTEND;TZID=America/Denver:20261008T160000
LOCATION:251 Flathead Avenue\, Whitefish\, AL 59937 US
SUMMARY:Store Hours
END:VEVENT
END:VCALENDAR
