BEGIN:VCALENDAR
VERSION:2.0
PRODID:-//northvalleyfoodbank.org//NONSGML kigkonsult.se iCalcreator 2.30.1
 0//
CALSCALE:GREGORIAN
METHOD:PUBLISH
UID:ce90e3d0-d003-4e51-9c91-c17e26122a4a
X-WR-CALDESC:
X-WR-RELCALID:4232dcbf5c954488d53eb844a97f5a34
X-WR-TIMEZONE:America/Denver
BEGIN:VTIMEZONE
TZID:America/Denver
BEGIN:STANDARD
TZNAME:MST
DTSTART:20261101T020000
TZOFFSETFROM:-0600
TZOFFSETTO:-0700
RDATE:20271107T020000
END:STANDARD
BEGIN:DAYLIGHT
TZNAME:MDT
DTSTART:20260308T020000
TZOFFSETFROM:-0700
TZOFFSETTO:-0600
RDATE:20270314T020000
RDATE:20280312T020000
END:DAYLIGHT
END:VTIMEZONE
BEGIN:VEVENT
UID:317de371-2068-4e25-8823-e7ff6d44cb62
DTSTAMP:20260422T142000Z
DESCRIPTION:
DTSTART;TZID=America/Denver:20261112T100000
DTEND;TZID=America/Denver:20261112T160000
LOCATION:251 Flathead Avenue\, Whitefish\, AL 59937 US
SUMMARY:Store Hours
END:VEVENT
END:VCALENDAR
