BEGIN:VCALENDAR
VERSION:2.0
PRODID:-//northvalleyfoodbank.org//NONSGML kigkonsult.se iCalcreator 2.30.1
 0//
CALSCALE:GREGORIAN
METHOD:PUBLISH
UID:c3a2eccf-1a66-4420-b056-6348efc0d5eb
X-WR-CALDESC:
X-WR-RELCALID:6cb49e7029938040cd9c9264c0d4ce8d
X-WR-TIMEZONE:America/Denver
BEGIN:VTIMEZONE
TZID:America/Denver
BEGIN:STANDARD
TZNAME:MST
DTSTART:20261101T020000
TZOFFSETFROM:-0600
TZOFFSETTO:-0700
RDATE:20271107T020000
END:STANDARD
BEGIN:DAYLIGHT
TZNAME:MDT
DTSTART:20260308T020000
TZOFFSETFROM:-0700
TZOFFSETTO:-0600
RDATE:20270314T020000
RDATE:20280312T020000
END:DAYLIGHT
END:VTIMEZONE
BEGIN:VEVENT
UID:2e0f256d-d2d0-4bc3-8a67-f792dedfc389
DTSTAMP:20260422T142516Z
DESCRIPTION:
DTSTART;TZID=America/Denver:20261127T113000
DTEND;TZID=America/Denver:20261127T114500
LOCATION:11 Olney Loop Rd\, Onley\, MT 59927 US
SUMMARY:Onley Mobile Pantry
END:VEVENT
END:VCALENDAR
