BEGIN:VCALENDAR
VERSION:2.0
PRODID:-//northvalleyfoodbank.org//NONSGML kigkonsult.se iCalcreator 2.30.1
 0//
CALSCALE:GREGORIAN
METHOD:PUBLISH
UID:70539d22-47cb-4c8d-85cf-cb378e0ed13d
X-WR-CALDESC:
X-WR-RELCALID:103d6e53a8ce35b7fdff39bca435e5ad
X-WR-TIMEZONE:America/Denver
BEGIN:VTIMEZONE
TZID:America/Denver
BEGIN:STANDARD
TZNAME:MST
DTSTART:20261101T020000
TZOFFSETFROM:-0600
TZOFFSETTO:-0700
RDATE:20271107T020000
END:STANDARD
BEGIN:DAYLIGHT
TZNAME:MDT
DTSTART:20270314T020000
TZOFFSETFROM:-0700
TZOFFSETTO:-0600
RDATE:20280312T020000
END:DAYLIGHT
END:VTIMEZONE
BEGIN:VEVENT
UID:caa4b4ea-a967-43fe-a7d1-5a0543414266
DTSTAMP:20260422T200754Z
DESCRIPTION:
DTSTART;TZID=America/Denver:20270312T113000
DTEND;TZID=America/Denver:20270312T114500
LOCATION:11 Olney Loop Rd\, Onley\, MT 59927 US
SUMMARY:Onley Mobile Pantry
END:VEVENT
END:VCALENDAR
