BEGIN:VCALENDAR
VERSION:2.0
PRODID:-//northvalleyfoodbank.org//NONSGML kigkonsult.se iCalcreator 2.30.1
 0//
CALSCALE:GREGORIAN
METHOD:PUBLISH
UID:8b0a0523-b6d9-4155-9505-4a90dd1ab05d
X-WR-CALDESC:
X-WR-RELCALID:84f1aca9b31d701d5a0f7c6cfcfa28c2
X-WR-TIMEZONE:America/Denver
BEGIN:VTIMEZONE
TZID:America/Denver
BEGIN:STANDARD
TZNAME:MST
DTSTART:20261101T020000
TZOFFSETFROM:-0600
TZOFFSETTO:-0700
RDATE:20271107T020000
END:STANDARD
BEGIN:DAYLIGHT
TZNAME:MDT
DTSTART:20270314T020000
TZOFFSETFROM:-0700
TZOFFSETTO:-0600
RDATE:20280312T020000
END:DAYLIGHT
END:VTIMEZONE
BEGIN:VEVENT
UID:da43c5a1-2e71-4f52-92c5-afcb6c920d45
DTSTAMP:20260422T214821Z
DESCRIPTION:
DTSTART;TZID=America/Denver:20270409T113000
DTEND;TZID=America/Denver:20270409T114500
LOCATION:11 Olney Loop Rd\, Onley\, MT 59927 US
SUMMARY:Onley Mobile Pantry
END:VEVENT
END:VCALENDAR
