BEGIN:VCALENDAR
VERSION:2.0
PRODID:-//northvalleyfoodbank.org//NONSGML kigkonsult.se iCalcreator 2.30.1
 0//
CALSCALE:GREGORIAN
METHOD:PUBLISH
UID:d5f6801e-a316-40fc-9d17-debd5b43f912
X-WR-CALDESC:
X-WR-RELCALID:8c068cafc20e86345a90a6e50ef6b5cd
X-WR-TIMEZONE:America/Denver
BEGIN:VTIMEZONE
TZID:America/Denver
BEGIN:STANDARD
TZNAME:MST
DTSTART:20261101T020000
TZOFFSETFROM:-0600
TZOFFSETTO:-0700
RDATE:20271107T020000
END:STANDARD
BEGIN:DAYLIGHT
TZNAME:MDT
DTSTART:20270314T020000
TZOFFSETFROM:-0700
TZOFFSETTO:-0600
RDATE:20280312T020000
END:DAYLIGHT
END:VTIMEZONE
BEGIN:VEVENT
UID:263cb9ed-92d5-4794-88a6-5ab45c0eaab7
DTSTAMP:20260422T213332Z
DESCRIPTION:
DTSTART;TZID=America/Denver:20270429T100000
DTEND;TZID=America/Denver:20270429T160000
LOCATION:251 Flathead Avenue\, Whitefish\, AL 59937 US
SUMMARY:Store Hours
END:VEVENT
END:VCALENDAR
