BEGIN:VCALENDAR
VERSION:2.0
PRODID:-//northvalleyfoodbank.org//NONSGML kigkonsult.se iCalcreator 2.30.1
 0//
CALSCALE:GREGORIAN
METHOD:PUBLISH
UID:f9dc69b2-cbbc-4e4b-9982-938581363093
X-WR-CALDESC:Every Friday at TFS Hall from 12:00-1:00pm
X-WR-RELCALID:a041bcc806a102088970c03182a57a01
X-WR-TIMEZONE:America/Denver
BEGIN:VTIMEZONE
TZID:America/Denver
BEGIN:STANDARD
TZNAME:MST
DTSTART:20261101T020000
TZOFFSETFROM:-0600
TZOFFSETTO:-0700
RDATE:20271107T020000
END:STANDARD
BEGIN:DAYLIGHT
TZNAME:MDT
DTSTART:20270314T020000
TZOFFSETFROM:-0700
TZOFFSETTO:-0600
RDATE:20280312T020000
END:DAYLIGHT
END:VTIMEZONE
BEGIN:VEVENT
UID:2d44b25e-f176-4f69-9117-f9d6bc8cdc1b
DTSTAMP:20260422T214749Z
DESCRIPTION:Every Friday at TFS Hall from 12:00-1:00pm
DTSTART;TZID=America/Denver:20270430T120000
DTEND;TZID=America/Denver:20270430T130000
LOCATION:312 Fortine Creek Rd\, Trego\, MT 59934 US
SUMMARY:Trego Mobile Pantry
END:VEVENT
END:VCALENDAR
