BEGIN:VCALENDAR
VERSION:2.0
PRODID:-//northvalleyfoodbank.org//NONSGML kigkonsult.se iCalcreator 2.30.1
 0//
CALSCALE:GREGORIAN
METHOD:PUBLISH
UID:d97a5fc3-fdc1-4fdd-8fd4-e4a52e3a343d
X-WR-CALDESC:Every Friday at TFS Hall from 12:00-1:00pm
X-WR-RELCALID:69be2dbecc9c4f43f43d88d3305b69b4
X-WR-TIMEZONE:America/Denver
BEGIN:VTIMEZONE
TZID:America/Denver
BEGIN:STANDARD
TZNAME:MST
DTSTART:20261101T020000
TZOFFSETFROM:-0600
TZOFFSETTO:-0700
RDATE:20271107T020000
RDATE:20281105T020000
END:STANDARD
BEGIN:DAYLIGHT
TZNAME:MDT
DTSTART:20270314T020000
TZOFFSETFROM:-0700
TZOFFSETTO:-0600
RDATE:20280312T020000
END:DAYLIGHT
END:VTIMEZONE
BEGIN:VEVENT
UID:3db4a55a-27a4-4caa-bc0c-7129132f331b
DTSTAMP:20260423T013810Z
DESCRIPTION:Every Friday at TFS Hall from 12:00-1:00pm
DTSTART;TZID=America/Denver:20270702T120000
DTEND;TZID=America/Denver:20270702T130000
LOCATION:312 Fortine Creek Rd\, Trego\, MT 59934 US
SUMMARY:Trego Mobile Pantry
END:VEVENT
END:VCALENDAR
