BEGIN:VCALENDAR
VERSION:2.0
PRODID:-//northvalleyfoodbank.org//NONSGML kigkonsult.se iCalcreator 2.30.1
 0//
CALSCALE:GREGORIAN
METHOD:PUBLISH
UID:ac8a23f0-3286-4deb-b1ea-c9ee9596d0ce
X-WR-CALDESC:
X-WR-RELCALID:8c006e26b8545e0a03eac8e2e7f195ae
X-WR-TIMEZONE:America/Denver
BEGIN:VTIMEZONE
TZID:America/Denver
BEGIN:STANDARD
TZNAME:MST
DTSTART:20261101T020000
TZOFFSETFROM:-0600
TZOFFSETTO:-0700
RDATE:20271107T020000
RDATE:20281105T020000
END:STANDARD
BEGIN:DAYLIGHT
TZNAME:MDT
DTSTART:20270314T020000
TZOFFSETFROM:-0700
TZOFFSETTO:-0600
RDATE:20280312T020000
RDATE:20290311T020000
END:DAYLIGHT
END:VTIMEZONE
BEGIN:VEVENT
UID:d1bbe76e-d89b-4f4d-8634-0a57026ebe91
DTSTAMP:20260423T042855Z
DESCRIPTION:
DTSTART;TZID=America/Denver:20270921T140000
DTEND;TZID=America/Denver:20270921T180000
LOCATION:251 Flathead Avenue\, Whitefish\, MT 59937 US
SUMMARY:Store Hours
END:VEVENT
END:VCALENDAR
