BEGIN:VCALENDAR
VERSION:2.0
PRODID:-//northvalleyfoodbank.org//NONSGML kigkonsult.se iCalcreator 2.30.1
 0//
CALSCALE:GREGORIAN
METHOD:PUBLISH
UID:9a6714c5-29c9-4899-92e5-bd5c8e05b440
X-WR-CALDESC:Every Friday at TFS Hall from 12:00-1:00pm
X-WR-RELCALID:daa47e5860b353dbcb77b98136cd3633
X-WR-TIMEZONE:America/Denver
BEGIN:VTIMEZONE
TZID:America/Denver
BEGIN:STANDARD
TZNAME:MST
DTSTART:20261101T020000
TZOFFSETFROM:-0600
TZOFFSETTO:-0700
RDATE:20271107T020000
RDATE:20281105T020000
END:STANDARD
BEGIN:DAYLIGHT
TZNAME:MDT
DTSTART:20270314T020000
TZOFFSETFROM:-0700
TZOFFSETTO:-0600
RDATE:20280312T020000
RDATE:20290311T020000
END:DAYLIGHT
END:VTIMEZONE
BEGIN:VEVENT
UID:e230151e-de51-4c39-9e68-befcb7322f65
DTSTAMP:20260423T060134Z
DESCRIPTION:Every Friday at TFS Hall from 12:00-1:00pm
DTSTART;TZID=America/Denver:20271008T120000
DTEND;TZID=America/Denver:20271008T130000
LOCATION:312 Fortine Creek Rd\, Trego\, MT 59934 US
SUMMARY:Trego Mobile Pantry
END:VEVENT
END:VCALENDAR
