BEGIN:VCALENDAR
VERSION:2.0
PRODID:-//northvalleyfoodbank.org//NONSGML kigkonsult.se iCalcreator 2.30.1
 0//
CALSCALE:GREGORIAN
METHOD:PUBLISH
UID:bf9ac432-5cbf-426e-9879-6f1e937cccb0
X-WR-CALDESC:
X-WR-RELCALID:7367d0d0d362b8e35137a84fd332d0f5
X-WR-TIMEZONE:America/Denver
BEGIN:VTIMEZONE
TZID:America/Denver
BEGIN:STANDARD
TZNAME:MST
DTSTART:20261101T020000
TZOFFSETFROM:-0600
TZOFFSETTO:-0700
RDATE:20271107T020000
RDATE:20281105T020000
END:STANDARD
BEGIN:DAYLIGHT
TZNAME:MDT
DTSTART:20270314T020000
TZOFFSETFROM:-0700
TZOFFSETTO:-0600
RDATE:20280312T020000
RDATE:20290311T020000
END:DAYLIGHT
END:VTIMEZONE
BEGIN:VEVENT
UID:1518bfb1-3443-4870-8114-6270118647cc
DTSTAMP:20260423T055721Z
DESCRIPTION:
DTSTART;TZID=America/Denver:20271013T100000
DTEND;TZID=America/Denver:20271013T160000
LOCATION:251 Flathead Avenue\, Whitefish\, MT 59937 US
SUMMARY:Store Hours
END:VEVENT
END:VCALENDAR
