BEGIN:VCALENDAR
VERSION:2.0
PRODID:-//northvalleyfoodbank.org//NONSGML kigkonsult.se iCalcreator 2.30.1
 0//
CALSCALE:GREGORIAN
METHOD:PUBLISH
UID:7eaf57f4-2389-4051-881b-f3f89880b90e
X-WR-CALDESC:
X-WR-RELCALID:7a9cdf207b6156ea840d67d1298b3e10
X-WR-TIMEZONE:America/Denver
BEGIN:VTIMEZONE
TZID:America/Denver
BEGIN:STANDARD
TZNAME:MST
DTSTART:20271107T020000
TZOFFSETFROM:-0600
TZOFFSETTO:-0700
RDATE:20281105T020000
END:STANDARD
BEGIN:DAYLIGHT
TZNAME:MDT
DTSTART:20270314T020000
TZOFFSETFROM:-0700
TZOFFSETTO:-0600
RDATE:20280312T020000
RDATE:20290311T020000
END:DAYLIGHT
END:VTIMEZONE
BEGIN:VEVENT
UID:1c29b0df-c137-465b-ba82-7c827a05f546
DTSTAMP:20260423T083625Z
DESCRIPTION:
DTSTART;TZID=America/Denver:20271229T100000
DTEND;TZID=America/Denver:20271229T160000
LOCATION:251 Flathead Avenue\, Whitefish\, MT 59937 US
SUMMARY:Store Hours
END:VEVENT
END:VCALENDAR
