BEGIN:VCALENDAR
VERSION:2.0
PRODID:-//northvalleyfoodbank.org//NONSGML kigkonsult.se iCalcreator 2.30.1
 0//
CALSCALE:GREGORIAN
METHOD:PUBLISH
UID:c48be816-8367-4876-86e9-e61369ee46d6
X-WR-CALDESC:
X-WR-RELCALID:5847ede7547a1fb589ba305f3e6552c9
X-WR-TIMEZONE:America/Denver
BEGIN:VTIMEZONE
TZID:America/Denver
BEGIN:STANDARD
TZNAME:MST
DTSTART:20271107T020000
TZOFFSETFROM:-0600
TZOFFSETTO:-0700
RDATE:20281105T020000
END:STANDARD
BEGIN:DAYLIGHT
TZNAME:MDT
DTSTART:20280312T020000
TZOFFSETFROM:-0700
TZOFFSETTO:-0600
RDATE:20290311T020000
END:DAYLIGHT
END:VTIMEZONE
BEGIN:VEVENT
UID:0f188e23-c065-46aa-815b-ab3742496550
DTSTAMP:20260423T143613Z
DESCRIPTION:
DTSTART;TZID=America/Denver:20280414T113000
DTEND;TZID=America/Denver:20280414T114500
LOCATION:11 Olney Loop Rd\, Onley\, MT 59927 US
SUMMARY:Onley Mobile Pantry
END:VEVENT
END:VCALENDAR
