BEGIN:VCALENDAR
VERSION:2.0
PRODID:-//northvalleyfoodbank.org//NONSGML kigkonsult.se iCalcreator 2.30.1
 0//
CALSCALE:GREGORIAN
METHOD:PUBLISH
UID:508ac231-06e4-47da-94e7-0380d853c186
X-WR-CALDESC:
X-WR-RELCALID:e861d942e7b5617b1481289dd192fc8d
X-WR-TIMEZONE:America/Denver
BEGIN:VTIMEZONE
TZID:America/Denver
BEGIN:STANDARD
TZNAME:MST
DTSTART:20271107T020000
TZOFFSETFROM:-0600
TZOFFSETTO:-0700
RDATE:20281105T020000
RDATE:20291104T020000
END:STANDARD
BEGIN:DAYLIGHT
TZNAME:MDT
DTSTART:20280312T020000
TZOFFSETFROM:-0700
TZOFFSETTO:-0600
RDATE:20290311T020000
END:DAYLIGHT
END:VTIMEZONE
BEGIN:VEVENT
UID:c623b567-81a3-4d53-b8a1-28616cfa5cf3
DTSTAMP:20260423T155449Z
DESCRIPTION:
DTSTART;TZID=America/Denver:20280524T100000
DTEND;TZID=America/Denver:20280524T160000
LOCATION:251 Flathead Avenue\, Whitefish\, MT 59937 US
SUMMARY:Store Hours
END:VEVENT
END:VCALENDAR
