BEGIN:VCALENDAR
VERSION:2.0
PRODID:-//northvalleyfoodbank.org//NONSGML kigkonsult.se iCalcreator 2.30.1
 0//
CALSCALE:GREGORIAN
METHOD:PUBLISH
UID:9dd79aab-19f8-472d-b3ff-aa3c3fab7a36
X-WR-CALDESC:Every Friday at TFS Hall from 12:00-1:00pm
X-WR-RELCALID:f9ebf6b3e1e7ba496b8fabf239bb466b
X-WR-TIMEZONE:America/Denver
BEGIN:VTIMEZONE
TZID:America/Denver
BEGIN:STANDARD
TZNAME:MST
DTSTART:20271107T020000
TZOFFSETFROM:-0600
TZOFFSETTO:-0700
RDATE:20281105T020000
RDATE:20291104T020000
END:STANDARD
BEGIN:DAYLIGHT
TZNAME:MDT
DTSTART:20280312T020000
TZOFFSETFROM:-0700
TZOFFSETTO:-0600
RDATE:20290311T020000
END:DAYLIGHT
END:VTIMEZONE
BEGIN:VEVENT
UID:a86819e0-83b7-4e15-a3e8-0e7de2a5a3d3
DTSTAMP:20260423T173614Z
DESCRIPTION:Every Friday at TFS Hall from 12:00-1:00pm
DTSTART;TZID=America/Denver:20280623T120000
DTEND;TZID=America/Denver:20280623T130000
LOCATION:312 Fortine Creek Rd\, Trego\, MT 59934 US
SUMMARY:Trego Mobile Pantry
END:VEVENT
END:VCALENDAR
