BEGIN:VCALENDAR
VERSION:2.0
PRODID:-//northvalleyfoodbank.org//NONSGML kigkonsult.se iCalcreator 2.30.1
 0//
CALSCALE:GREGORIAN
METHOD:PUBLISH
UID:cdc6512d-74c2-4452-aebd-73ee5bc394eb
X-WR-CALDESC:The first and third Monday of the month at the Izaak Walton In
 n from 10:30-11:00am
X-WR-RELCALID:baf53a9f5de43f27688e846377f6f0b2
X-WR-TIMEZONE:America/Denver
BEGIN:VTIMEZONE
TZID:America/Denver
BEGIN:STANDARD
TZNAME:MST
DTSTART:20251102T020000
TZOFFSETFROM:-0600
TZOFFSETTO:-0700
RDATE:20261101T020000
END:STANDARD
BEGIN:DAYLIGHT
TZNAME:MDT
DTSTART:20260308T020000
TZOFFSETFROM:-0700
TZOFFSETTO:-0600
RDATE:20270314T020000
END:DAYLIGHT
END:VTIMEZONE
BEGIN:VEVENT
UID:7c850bc2-f470-43a5-9f36-0618b2b77602
DTSTAMP:20260420T040355Z
DESCRIPTION:The first and third Monday of the month at the Izaak Walton Inn
  from 10:30-11:00am
DTSTART;TZID=America/Denver:20260406T103000
DTEND;TZID=America/Denver:20260406T110000
LOCATION:290 Izaak Walton Inn Rd\, Essex\, MT 59916 US
SUMMARY:Essex Mobile Pantry
END:VEVENT
END:VCALENDAR
