BEGIN:VCALENDAR
VERSION:2.0
PRODID:-//northvalleyfoodbank.org//NONSGML kigkonsult.se iCalcreator 2.30.1
 0//
CALSCALE:GREGORIAN
METHOD:PUBLISH
UID:b434bb31-a1f2-4bad-af0c-73e2f1717706
X-WR-CALDESC:
X-WR-RELCALID:e3064da7331f33da16356dec4a69994f
X-WR-TIMEZONE:America/Denver
BEGIN:VTIMEZONE
TZID:America/Denver
BEGIN:STANDARD
TZNAME:MST
DTSTART:20251102T020000
TZOFFSETFROM:-0600
TZOFFSETTO:-0700
RDATE:20261101T020000
END:STANDARD
BEGIN:DAYLIGHT
TZNAME:MDT
DTSTART:20260308T020000
TZOFFSETFROM:-0700
TZOFFSETTO:-0600
RDATE:20270314T020000
END:DAYLIGHT
END:VTIMEZONE
BEGIN:VEVENT
UID:d3d9141e-c836-4538-976f-1e2e7dd72a01
DTSTAMP:20260420T035655Z
DESCRIPTION:
DTSTART;TZID=America/Denver:20260410T113000
DTEND;TZID=America/Denver:20260410T114500
LOCATION:11 Olney Loop Rd\, Onley\, MT 59927 US
SUMMARY:Onley Mobile Pantry
END:VEVENT
END:VCALENDAR
