BEGIN:VCALENDAR
VERSION:2.0
PRODID:-//northvalleyfoodbank.org//NONSGML kigkonsult.se iCalcreator 2.30.1
 0//
CALSCALE:GREGORIAN
METHOD:PUBLISH
UID:6bf990e3-a9cb-4886-b8b2-a0de078463bf
X-WR-CALDESC:Columbia Falls Kids Foundation Building. Enter through the blu
 e doors.
X-WR-RELCALID:1a008b05ed0989192da3d86ce754c0d8
X-WR-TIMEZONE:America/Denver
BEGIN:VTIMEZONE
TZID:America/Denver
BEGIN:STANDARD
TZNAME:MST
DTSTART:20251102T020000
TZOFFSETFROM:-0600
TZOFFSETTO:-0700
RDATE:20261101T020000
END:STANDARD
BEGIN:DAYLIGHT
TZNAME:MDT
DTSTART:20260308T020000
TZOFFSETFROM:-0700
TZOFFSETTO:-0600
RDATE:20270314T020000
END:DAYLIGHT
END:VTIMEZONE
BEGIN:VEVENT
UID:a8f12cda-f47a-46a3-9670-954a28577b48
DTSTAMP:20260420T035818Z
DESCRIPTION:Columbia Falls Kids Foundation Building. Enter through the blue
  doors.
DTSTART;TZID=America/Denver:20260422T120000
DTEND;TZID=America/Denver:20260422T130000
LOCATION:540 4th Ave West\, Columbia Falls\, MT 59912 US
SUMMARY:Columbia Falls Mobile Pantry
END:VEVENT
END:VCALENDAR
